BEGIN:VCALENDAR
VERSION:2.0
PRODID:-//ChamberMaster//Event Calendar 2.0//EN
METHOD:PUBLISH
X-PUBLISHED-TTL:P3D
REFRESH-INTERVAL:P3D
CALSCALE:GREGORIAN
BEGIN:VEVENT
DTSTART:20180619T231500Z
DTEND:20180620T003000Z
X-MICROSOFT-CDO-ALLDAYEVENT:FALSE
SUMMARY:Chamber on Tap - June
DESCRIPTION:Chamber on Tap - Roast of Bryan VanTassel "Boh"\n\n 5:15pm - Free appetizers & sampler beers!\n\n5:30pm - Mini Roast of Boh\n\nPlease bring your business card for door prizes - Open to Businesses\n\nFREE admission - Space is limited - Please RSVP to heather@mjchamber.com or call: 306.692.6414
X-ALT-DESC;FMTTYPE=text/html:Chamber on Tap - Roast of Bryan VanTassel&nbsp\;&quot\;Boh&quot\;<br />\n<span style="font-size:12px\;"><span style="font-family:arial\;"><strong>&nbsp\;<span style="font-weight:bold\;language:en-CA\;"><span style="color:black\;">5:15pm - Free appetizers &amp\; sampler beers!</span></span><br />\n<span style="font-weight:bold\;language:en-CA\;"><span style="color:black\;">5:30pm - Mini Roast of Boh</span></span><br />\n<span style="font-weight:bold\;language:en-CA\;"><span style="color:black\;">Please bring your business card for </span></span><span style="font-weight:bold\;language:en-CA\;"><span style="color:black\;">door prizes - Open to Businesses</span></span><br />\n<span style="font-style:italic\;font-weight:bold\;language:en-CA\;"><span style="color:black\;">FREE admission - Space is limited - </span></span><span style="font-style:italic\;font-weight:bold\;language:en-CA\;"><span style="color:black\;">Please RSVP to heather@mjchamber.com </span></span><span style="font-style:italic\;font-weight:bold\;language:en-CA\;"><span style="color:black\;">or call: 306.692.6414</span></span></strong></span></span><br />\n&nbsp\;<br />\n&nbsp\;
LOCATION:Boh's Cycle
UID:e.2800.116
SEQUENCE:3
DTSTAMP:20260426T011908Z
URL:https://www.mjchamber.com/events/details/chamber-on-tap-june-116
END:VEVENT

END:VCALENDAR
